BEGIN:VCALENDAR
VERSION:2.0
PRODID:-//Vanessa Tucker - ECPv6.15.20//NONSGML v1.0//EN
CALSCALE:GREGORIAN
METHOD:PUBLISH
X-WR-CALNAME:Vanessa Tucker
X-ORIGINAL-URL:https://www.vanessatucker.com
X-WR-CALDESC:Events for Vanessa Tucker
REFRESH-INTERVAL;VALUE=DURATION:PT1H
X-Robots-Tag:noindex
X-PUBLISHED-TTL:PT1H
BEGIN:VTIMEZONE
TZID:Europe/London
BEGIN:DAYLIGHT
TZOFFSETFROM:+0000
TZOFFSETTO:+0100
TZNAME:BST
DTSTART:20230326T010000
END:DAYLIGHT
BEGIN:STANDARD
TZOFFSETFROM:+0100
TZOFFSETTO:+0000
TZNAME:GMT
DTSTART:20231029T010000
END:STANDARD
BEGIN:DAYLIGHT
TZOFFSETFROM:+0000
TZOFFSETTO:+0100
TZNAME:BST
DTSTART:20240331T010000
END:DAYLIGHT
BEGIN:STANDARD
TZOFFSETFROM:+0100
TZOFFSETTO:+0000
TZNAME:GMT
DTSTART:20241027T010000
END:STANDARD
BEGIN:DAYLIGHT
TZOFFSETFROM:+0000
TZOFFSETTO:+0100
TZNAME:BST
DTSTART:20250330T010000
END:DAYLIGHT
BEGIN:STANDARD
TZOFFSETFROM:+0100
TZOFFSETTO:+0000
TZNAME:GMT
DTSTART:20251026T010000
END:STANDARD
END:VTIMEZONE
BEGIN:VEVENT
DTSTART;TZID=Europe/London:20241012T100000
DTEND;TZID=Europe/London:20241020T170000
DTSTAMP:20260420T133623
CREATED:20240325T113050Z
LAST-MODIFIED:20240819T115027Z
UID:10000062-1728727200-1729443600@www.vanessatucker.com
SUMMARY:Soul Retrieval Training with Somatic Movement Approaches
DESCRIPTION:IPHM Accredited Soul Retrieval Training with Somatic Movement & Touch ApproachesA Transformative Course for Healers\, Therapists & Bodyworkers \n  This course blends therapeutic shamanism\, somatic movement and polyvagal theory creating a powerful healing approach for unresolved trauma. \nAre you a healer\, therapist or bodyworker looking for deeply transformative ways to work with trauma? The Soul Retrieval Training Course with Somatic Movement Approaches is specifically designed to provide practitioners or people who are drawn to this course\, with the skills to confidently facilitate soul retrievals for themselves and for others. \nUnresolved trauma can stop us from fulfilling our full potential and living happy and creative lives. This course combines therapeutic shamanism and somatic movement as a healing approach for unresolved trauma. You will learn the art of soul retrieval through a four-session structure that facilitates safety\, transformation and integration within the body\, mind and soul. \nSomatic movement therapy supports the participant to build a safe and intimate relationship with their body\, access deep-rooted trauma held in the nervous system and develop a sense of agency. Therapeutic shamanism enables the participant to reclaim their spiritual authority\, integrity and wholeness. Both of these modalities draw upon the transpersonal experience of the participant\, reconnecting them to a deeper and wider sense of Self that enables powerful healing to occur. \nWhat is Soul Retrieval: The Healing Journey \nSoul retrieval is an ancient shamanic healing practice designed to address the impact of trauma and soul loss. \nIn indigenous cultures\, soul loss was believed to occur during times of trauma\, grief\, or significant life events. It was believed that a part of the soul could become detached as a coping mechanism\, leaving the individual feeling incomplete or disconnected. This fragmentation was often seen as the root cause of emotional and physical imbalances\, leading to symptoms of illness or spiritual malaise. \nTraditional healers would enter an altered state of consciousness to access the spiritual realms to locate and retrieve these lost soul parts\, facilitating their safe return and integration. This process can bring profound healing\, restoring a deep sense of wholeness and connection to one’s true essence. There is often a sense of ‘coming home’ or feeling like oneself once again. \nHealing from trauma and soul loss is a courageous and transformative journey. It involves acknowledging and validating the pain and experiences that led to soul loss while cultivating a nurturing and supportive environment for inner healing. \nSoul retrieval allows us to embrace the totality of our experiences\, honouring both the light and shadow aspects of our soul. Through this integration\, we reclaim our power\, resilience\, and capacity for joy. About the Soul Retrieval Training Course\nThe Soul Retrieval Training Course with Somatic Movement Approaches is an accredited and certified by IPHM. This qualification is designed for individuals\, healers\, bodyworkers\, coaches\, counsellors and therapists who wish to use soul retrieval with somatic movement as a powerful healing modality and retrieve lost soul parts for themselves and others integrating this into their existing practice. \nSoul retrieval adds an essential dimension to your work\, as it addresses the restoration of fragmented soul parts and the underlying root causes of emotional and energetic imbalances. \nCourse Details:\nThis training course is non-residential. \nIt consists of one teaching zoom day and a teaching weekend\, where you will have the opportunity to apply and integrate your skills in person. \nThe nature of the training is practice-based\, heart-centred\, spirit-led and transformative. It fuses the ancient shamanic healing technique of soul-retrieval with trauma-informed psycho-spiritual and somatic approaches including the integration of polyvagal theory and nervous system health. \nCourse Content:\n \n\n\n 	The foundational principles of soul retrieval.\n 	Understand the relationship between trauma and soul loss\n 	Navigating the shamanic worlds – Upper\, middle and lower worlds.\n\n  \nCourse Content Continued: \n\n\n 	Connecting with Spirit Helpers: Power animals and spirit guides\n 	Understand the significant role of the nervous system in soul retrieval work.\n 	Somatic movement approaches to regulate your client’s nervous system for a successful soul retrieval.\n 	Techniques for accessing altered states of consciousness to facilitate soul retrieval.\n 	Rituals for creating a safe and sacred space for soul retrieval sessions with your clients.\n 	Shamanic and somatic methods to integrate the retrieved aspects and for supporting clients through their healing journey after soul retrieval.\n 	Practice and formative assessments\n\nDates and Location\nOnline Interactive zoom day:  \nDate: 12th October 2024  Time: 10am-5pm \nNon-residential weekend: \nDates: 19th & 20th October 2024 \nVenue: Rosehip barn\, St Clether\,\nLaunceston\, Cornwall \nArrive 9.45 am for 10am start\, 5pm finish.\nPlease wear comfortable clothing and bring a packed lunch\, yoga mat\, blanket\, notebook and pen.\n\nBook early as places are limited. Investment\nEarly Bird Price: £265\nFull Price: £295\nEarly Bird tickets end 31st July 2024 ▸BOOK HEREError: Contact form not found. \nAll courses are approached with integrity\, compassion and love\, ensuring high standards and creating a space for an enquiring meeting of hearts and minds. Free post course support for all our students. Our training courses are approved by the International Practitioners of Holistic Medicine. FIND US ON IPHM WEBSITE
URL:https://www.vanessatucker.com/event/soul-retrieval-training-somatic-movement-approaches/
LOCATION:Zoom & St Clether\, Rosehip Barn\, St Clether\, Cornwall\, PL15 8QN\, United Kingdom
ATTACH;FMTTYPE=image/jpeg:https://www.vanessatucker.com/wp-content/uploads/2023/08/SOUL-RETRIEVAL-training-course-small-vanessa-tucker.jpg
GEO:50.635929;-4.54207
X-APPLE-STRUCTURED-LOCATION;VALUE=URI;X-ADDRESS=Zoom & St Clether Rosehip Barn St Clether Cornwall PL15 8QN United Kingdom;X-APPLE-RADIUS=500;X-TITLE=Rosehip Barn:geo:-4.54207,50.635929
END:VEVENT
END:VCALENDAR